BEGIN:VCALENDAR
VERSION:2.0
PRODID:-//Collectif Spectacles en Retz - ECPv6.0.1.1//NONSGML v1.0//EN
CALSCALE:GREGORIAN
METHOD:PUBLISH
X-WR-CALNAME:Collectif Spectacles en Retz
X-ORIGINAL-URL:https://www.spectacles-en-retz.com
X-WR-CALDESC:Events for Collectif Spectacles en Retz
REFRESH-INTERVAL;VALUE=DURATION:PT1H
X-Robots-Tag:noindex
X-PUBLISHED-TTL:PT1H
BEGIN:VTIMEZONE
TZID:Europe/Paris
BEGIN:DAYLIGHT
TZOFFSETFROM:+0100
TZOFFSETTO:+0200
TZNAME:CEST
DTSTART:20260329T010000
END:DAYLIGHT
BEGIN:STANDARD
TZOFFSETFROM:+0200
TZOFFSETTO:+0100
TZNAME:CET
DTSTART:20261025T010000
END:STANDARD
END:VTIMEZONE
BEGIN:VEVENT
DTSTART;VALUE=DATE:20260712
DTEND;VALUE=DATE:20260713
DTSTAMP:20260425T160720
CREATED:20260416T151852Z
LAST-MODIFIED:20260416T151852Z
UID:31598-1783814400-1783900799@www.spectacles-en-retz.com
SUMMARY:Oratorio de Claude Guillon Verne « les ailes du rêve »
DESCRIPTION:Après un centaine d’années d’oubli\, Oratorio et mélodies de Claude Guillon Verne seront interprétés par : Sophie Desmars soprano\, Bruno Guitteny ténor\, Françoise Foulard alto\, Isabelle Martin mezzo-soprano et l’ensemble vocal des Saltimbanques. Au piano\, Christel Patey. Attention nombre de places limité ! Réservation recommandée !
URL:https://www.spectacles-en-retz.com/agenda/oratorio-de-claude-guillon-verne-les-ailes-du-reve/
LOCATION:Chapelle de Prigny\, Les Moutiers-en-Retz
CATEGORIES:Saison en plein jour,Zorg
ATTACH;FMTTYPE=image/jpeg:https://www.spectacles-en-retz.com/wp-content/uploads/2026/04/2026-07-12_Saltimbanques.jpg
ORGANIZER;CN="En%20compagnie%20des%20saltimbanques":MAILTO:encompagniesaltimbanques@gmail.com
END:VEVENT
END:VCALENDAR