BEGIN:VCALENDAR
VERSION:2.0
PRODID:-//Collectif Spectacles en Retz - ECPv6.0.1.1//NONSGML v1.0//EN
CALSCALE:GREGORIAN
METHOD:PUBLISH
X-WR-CALNAME:Collectif Spectacles en Retz
X-ORIGINAL-URL:https://www.spectacles-en-retz.com
X-WR-CALDESC:Events for Collectif Spectacles en Retz
REFRESH-INTERVAL;VALUE=DURATION:PT1H
X-Robots-Tag:noindex
X-PUBLISHED-TTL:PT1H
BEGIN:VTIMEZONE
TZID:Europe/Paris
BEGIN:DAYLIGHT
TZOFFSETFROM:+0100
TZOFFSETTO:+0200
TZNAME:CEST
DTSTART:20260329T010000
END:DAYLIGHT
BEGIN:STANDARD
TZOFFSETFROM:+0200
TZOFFSETTO:+0100
TZNAME:CET
DTSTART:20261025T010000
END:STANDARD
END:VTIMEZONE
BEGIN:VEVENT
DTSTART;VALUE=DATE:20260419
DTEND;VALUE=DATE:20260420
DTSTAMP:20260424T121509
CREATED:20260416T151838Z
LAST-MODIFIED:20260416T154022Z
UID:31455-1776556800-1776643199@www.spectacles-en-retz.com
SUMMARY:Extraits d'opérettes La Bayadère\, Lalla Roukh\, Le Grand monghol
DESCRIPTION:De larges extraits des opérettes « La Bayadère » de Kalman\, « Lalla-Roukh » de David\, « Le Grand Mogol » de Audran\, interprétés par les Saltimbanques\, vous feront voyager de Paris aux indes Sans réservation dans la limite des places disponibles.
URL:https://www.spectacles-en-retz.com/agenda/extraits-doperettes-la-bayadere-lalla-roukh-le-grand-monghol/
LOCATION:Théâtre de Saint-Hilaire-de-Chaléons\, Saint-Hilaire-de-Chaléons
CATEGORIES:Bientôt,Saison en plein jour,Zorg
ATTACH;FMTTYPE=image/jpeg:https://www.spectacles-en-retz.com/wp-content/uploads/2026/04/2026-04-18_Saltimbanques_Indes.jpg
ORGANIZER;CN="Bruno%20Guitteny":MAILTO:encompagniesaltimbanques@gmail.com
END:VEVENT
BEGIN:VEVENT
DTSTART;VALUE=DATE:20260418
DTEND;VALUE=DATE:20260419
DTSTAMP:20260424T121509
CREATED:20260416T151838Z
LAST-MODIFIED:20260416T154018Z
UID:31452-1776470400-1776556799@www.spectacles-en-retz.com
SUMMARY:Extraits d'opérettes La Bayadère\, Lalla Roukh\, Le Grand monghol
DESCRIPTION:De larges extraits des opérettes « La Bayadère » de Kalman\, « Lalla-Roukh » de David\, « Le Grand Mogol » de Audran\, interprétés par les Saltimbanques\, vous feront voyager de Paris aux indes Sans réservation dans la limite des places disponibles.
URL:https://www.spectacles-en-retz.com/agenda/histoires-de/
LOCATION:Théâtre de Saint-Hilaire-de-Chaléons\, Saint-Hilaire-de-Chaléons
CATEGORIES:Bientôt,Saison en plein jour,Zorg
ATTACH;FMTTYPE=image/jpeg:https://www.spectacles-en-retz.com/wp-content/uploads/2026/04/2026-04-18_Saltimbanques_Indes.jpg
ORGANIZER;CN="Bruno%20Guitteny":MAILTO:encompagniesaltimbanques@gmail.com
END:VEVENT
BEGIN:VEVENT
DTSTART;VALUE=DATE:20260418
DTEND;VALUE=DATE:20260419
DTSTAMP:20260424T121509
CREATED:20260416T151758Z
LAST-MODIFIED:20260417T071829Z
UID:28961-1776470400-1776556799@www.spectacles-en-retz.com
SUMMARY:Le café des hauts débats
DESCRIPTION:Création\, mise en scène Patrice Galle\nJoseph et Marie\, tenanciers du mythique Café des hauts débats\, peinent à trouver un repreneur pour ce lieu emblématique de la parole libre. Entre scènes de théâtre\, débats houleux\, méditation\, comédie musicale et clashs idéologiques\, une bande de personnages hauts en couleur tente de sauver ce lieu unique… et peut-être aussi leur amitié.
URL:https://www.spectacles-en-retz.com/agenda/le-cafe-des-hauts-debats/
LOCATION:ALM Scène du Lapin Vert 45 rue Violin 44620 LA MONTAGNE\, La Montagne
CATEGORIES:Zorg
ATTACH;FMTTYPE=image/jpeg:https://www.spectacles-en-retz.com/wp-content/uploads/2025/09/2026-04-18_ALM-HorsPiste.jpg
ORGANIZER;CN="ALM%20Lapin%20Vert":MAILTO:almlapinvert@free.fr
END:VEVENT
BEGIN:VEVENT
DTSTART;VALUE=DATE:20260417
DTEND;VALUE=DATE:20260418
DTSTAMP:20260424T121509
CREATED:20260416T151809Z
LAST-MODIFIED:20260417T073253Z
UID:28973-1776384000-1776470399@www.spectacles-en-retz.com
SUMMARY:Arrêt Bici Top Moy ?
DESCRIPTION:Arrêt bici top moy ? (le prochain arrêt est ? En wolof) est un voyage intime et poétique pour toute la famille.\nA travers la métaphore du voyage\, offrant différents degrés de lecture pour petits et grands\, cette pièce interroge la manière dont nos décisions façonnent notre parcours de vie.\nLa porosité des cultures\, la découverte et le mélange sont au coeur de la nouvelle création de Jules Romain Djihounouck.\nEn résidence à l’Espace culturel Saint Roch\, il vous invite à découvrir sa nouvelle création lors d’une répétition publique.\n©Agathe Geffroy
URL:https://www.spectacles-en-retz.com/agenda/arret-bici-top-moy/
LOCATION:Espace culturel Saint Roch\, Saint-Père-en-Retz
CATEGORIES:Bientôt,Saison Plein Jour,Saison Solidaire,Zorg
ATTACH;FMTTYPE=image/jpeg:https://www.spectacles-en-retz.com/wp-content/uploads/2025/09/2026-04-17_SPER-Jules.jpeg
ORGANIZER;CN="Municipalit%C3%A9%20de%20Saint%20P%C3%A8re%20en%20retz":MAILTO:culture@saintpereenretz.fr
END:VEVENT
END:VCALENDAR